ArcGIS REST Services Directory
Home
>
services
>
allpvcpoly (MapServer)
|
API Reference
JSON
WMTS
allpvcpoly (MapServer)
View In:
WMTS
Map Viewer
Current Version
Service Description:
Abstract:
N/A
Metadata URI:
N/A
Keywords:
Map Name:
allpvcpoly
Capabilities:
Map,TilesOnly,Tilemap
Description:
Copyright Text:
Spatial Reference:
102100 (3857)
Legend
All Layers and Tables
Layers:
patlantic-city_nj-dredge
(0)
ppoint-pleasant_nj-groundfish-65minus
(1)
ppoint-pleasant_nj-gillnet
(2)
ppoint-pleasant_nj-dredge
(3)
ppoint-lookout_ny-other-pots-traps
(4)
ppoint-lookout_ny-NA
(5)
ppoint-lookout_ny-groundfish-65plus
(6)
ppoint-lookout_ny-groundfish-65minus
(7)
ppoint-pleasant_nj-groundfish-65plus
(8)
ppoint-judith_ri-seine-midwater
(9)
ppoint-judith_ri-NA
(10)
ppoint-judith_ri-lobster
(11)
ppoint-judith_ri-groundfish-65plus
(12)
ppoint-judith_ri-groundfish-65minus
(13)
ppoint-judith_ri-gillnet
(14)
ppoint-judith_ri-dredge
(15)
pplymouth_ma-NA
(16)
ppoint-judith_ri-other-pots.traps
(17)
ppoint-pleasant_nj-lobster
(18)
ppoint-pleasant_nj-NA
(19)
ppoint-pleasant_nj-other-pots-traps
(20)
pportsmouth_nh-NA
(21)
pportsmouth_nh-lobster
(22)
pportsmouth_nh-groundfish-65minus
(23)
pportsmouth_nh-gillnet
(24)
pportland_me-shrimptrawl
(25)
pportland_me-seine-midwater
(26)
pportland_me-other-pots-traps
(27)
pportland_me-NA
(28)
pportland_me-lobster
(29)
pportland_me-groundfish-65plus
(30)
pportland_me-groundfish-65minus
(31)
pportland_me-gillnet
(32)
pportland_me-dredge
(33)
pport-norris_nj-dredge
(34)
pport-clyde_me-shrimptrawl
(35)
pport-clyde_me-groundfish-65minus
(36)
pport-clyde_me-dredge
(37)
pplymouth_ma-longline
(38)
pportsmouth_nh-shrimptrawl
(39)
pplymouth_ma-lobster
(40)
pother-suffolk_ny-NA
(41)
pnewport_ri-groundfish-65minus
(42)
pnewport_ri-gillnet
(43)
pnewport-news_va-groundfish-65plus
(44)
pnewport-news_va-dredge
(45)
pnewington_nh-lobster
(46)
pnewburyport_ma-NA
(47)
pnewburyport_ma-groundfish-65minus
(48)
pnewport_ri-lobster
(49)
pnewburyport_ma-dredge
(50)
pnew-shoreham_ri-lobster
(51)
pnew-london_ct-other-pots-traps
(52)
pnew-london_ct-NA
(53)
pnew-london_ct-groundfish-65plus
(54)
pnew-london_ct-groundfish-65minus
(55)
pnew-london_ct-gillnet
(56)
pnew-london_ct-dredge
(57)
pnew-shoreham_ri-NA
(58)
pnewport_ri-NA
(59)
pnewport_ri-other-pots-traps
(60)
pnorfolk_va-NA
(61)
pother-mathews_va-gillnet
(62)
porleans_ma-NA
(63)
porleans_ma-lobster
(64)
porient_ny-NA
(65)
poriental_nc-shrimptrawl
(66)
poriental_nc-groundfish-65plus
(67)
poly
(68)
poceanside_ny-NA
(69)
pocean-city_md-other-pots-traps
(70)
pocean-city_md-NA
(71)
pocean-city_md-longline
(72)
pocean-city_md-lobster
(73)
pocean-city_md-groundfish-65minus
(74)
pocean-city_md-gillnet
(75)
pocean-city_md-dredge
(76)
pnortheast-harbor_me-lobster
(77)
pnorth-kingstown_ri-groundfish-65plus
(78)
pplymouth_ma-groundfish-65minus
(79)
pnew-harbor_me-shrimptrawl
(80)
pprovincetown_ma-dredge
(81)
pprovincetown_ma-lobster
(82)
pvinalhaven_me-longline
(83)
pvinalhaven_me-lobster
(84)
ptruro_ma-NA
(85)
ptiverton_ri-gillnet
(86)
ptisbury_ma-other-pots-traps
(87)
ptenants-harbor_me-lobster
(88)
pswan-quarter_nc-shrimptrawl
(89)
pvirginia-beach_va-gillnet
(90)
pswan-quarter_nc-groundfish-65plus
(91)
pstonington_me-shrimptrawl
(92)
pstonington_me-lobster
(93)
pstonington_ct-lobster
(94)
pstonington_ct-groundfish-65plus
(95)
pstonington_ct-groundfish-65minus
(96)
pstonington_ct-dredge
(97)
psouthwest-harbor_me-lobster
(98)
pstueben_me-lobster
(99)
pvirginia-beach_va-NA
(100)
pvirginia-beach_va-other-pots-traps
(101)
pwachapreague_va-gillnet
(102)
pwinter-harbor_me-lobster
(103)
pwildwood_nj-NA
(104)
pwildwood_nj-dredge
(105)
pwestport_ma-other-pots-traps
(106)
pwestport_ma-NA
(107)
pwestport_ma-lobster
(108)
pwestport_ma-gillnet
(109)
pwarwick_ri-NA
(110)
pwaretown_nj-gillnet
(111)
pwanchese_nc-shrimptrawl
(112)
pwanchese_nc-other-pots-traps
(113)
pwanchese_nc-NA
(114)
pwanchese_nc-longline
(115)
pwanchese_nc-groundfish-65plus
(116)
pwanchese_nc-gillnet
(117)
pwakefield_ri-NA
(118)
pwachapreague_va-other-pots-traps
(119)
psouth-kingstown_ri-NA
(120)
pprovincetown_ma-groundfish-65minus
(121)
psouth-bristol_me-shrimptrawl
(122)
psouth-bristol_me-lobster
(123)
psandwich_ma-NA
(124)
psandwich_ma-lobster
(125)
psandwich_ma-dredge
(126)
psalisbury_ma-NA
(127)
psaco_me-NA
(128)
prye_nh-shrimptrawl
(129)
prye_nh-NA
(130)
pscituate_ma-gillnet
(131)
prye_nh-lobster
(132)
prye_nh-gillnet
(133)
prye_nh-dredge
(134)
prockport_ma-NA
(135)
prockport_ma-lobster
(136)
prockport_ma-groundfish-65minus
(137)
prockland_me-seine-midwater
(138)
pprovincetown_ma-NA
(139)
prye_nh-groundfish-65minus
(140)
pscituate_ma-groundfish-65minus
(141)
pscituate_ma-lobster
(142)
pscituate_ma-longline
(143)
psouth-bristol_me-groundfish-65minus
(144)
pshinnecock_ny-other-pots-traps
(145)
pshinnecock_ny-NA
(146)
pshinnecock_ny-lobster
(147)
pshinnecock_ny-groundfish-65plus
(148)
pshinnecock_ny-groundfish-65minus
(149)
pshinnecock_ny-gillnet
(150)
pshark-river_nj-lobster
(151)
pseabrook_nh-shrimptrawl
(152)
pseabrook_nh-NA
(153)
pseabrook_nh-lobster
(154)
pseabrook_nh-groundfish-65minus
(155)
pseabrook_nh-gillnet
(156)
pseabrook_nh-dredge
(157)
psea-isle-city_nj-other-pots-traps
(158)
psea-isle-city_nj-lobster
(159)
pscituate_ma-NA
(160)
psouth-bristol_me-seine-midwater
(161)
pyarmouth_ma-NA
(162)
pnew-bedford_ma-seine-midwater
(163)
pnew-bedford_ma-NA
(164)
pcundys-harbor_me-lobster
(165)
pcity-of-seaford_va-dredge
(166)
pchincoteague_va-other-pots-traps
(167)
pchincoteague_va-groundfish-65plus
(168)
pchincoteague_va-gillnet
(169)
pchilmark_ma-NA
(170)
pchilmark_ma-lobster
(171)
pcundys-harbor_me-shrimptrawl
(172)
pchatham_ma-other-pots-traps
(173)
pchatham_ma-longline
(174)
pchatham_ma-lobster
(175)
pchatham_ma-groundfish-65minus
(176)
pchatham_ma-gillnet
(177)
pchatham_ma-dredge
(178)
pcape-porpoise_me-lobster
(179)
pcape-may_nj-seine-midwater
(180)
pchatham_ma-NA
(181)
pdavisville_ri-groundfish-65plus
(182)
pdennis_ma-lobster
(183)
pdennis_ma-NA
(184)
pgloucester_ma-gillnet
(185)
pgloucester_ma-dredge
(186)
pfriendship_me-shrimptrawl
(187)
pfriendship_me-lobster
(188)
pfriendship_me-dredge
(189)
pfreeport_ny-NA
(190)
pfreeport_ny-groundfish-65minus
(191)
pfreeport_ny-gillnet
(192)
pfairhaven_ma-other-pots-traps
(193)
pfairhaven_ma-lobster
(194)
pfairhaven_ma-dredge
(195)
pengelhard_nc-shrimptrawl
(196)
pengelhard_nc-groundfish-65plus
(197)
pengelhard_nc-groundfish-65minus
(198)
pengelhard_nc-gillnet
(199)
peliot_me-NA
(200)
peastport_me-dredge
(201)
pcape-may_nj-other-pots-traps
(202)
pgloucester_ma-groundfish-65minus
(203)
pcape-may_nj-NA
(204)
pcape-may_nj-groundfish-65plus
(205)
pbeaufort_nc-shrimptrawl
(206)
pbeaufort_nc-groundfish-65plus
(207)
pbeaufort_nc-dredge
(208)
pbeals-island_me-lobster
(209)
pbass-river_ma-NA
(210)
pbarnstable_ma-NA
(211)
pbarnstable_ma-lobster
(212)
pbelford_nj-dredge
(213)
pbarnstable_ma-groundfish-65minus
(214)
pbarnegat_nj-NA
(215)
pbarnegat_nj-longline
(216)
pbarnegat_nj-groundfish-65minus
(217)
pbarnegat_nj-gillnet
(218)
pbarnegat_nj-dredge
(219)
pbailey-island_me-lobster
(220)
patlantic-city_nj-other-pots-traps
(221)
pbarnegat_nj-other-pots-traps
(222)
pbelford_nj-groundfish-65minus
(223)
pbelford_nj-NA
(224)
pbelford_nj-seine-midwater
(225)
pcape-may_nj-gillnet
(226)
pcape-may_nj-dredge
(227)
pcape-charles_va-gillnet
(228)
pbucks-harbor_me-lobster
(229)
pbrooklyn_ny-other-pots-traps
(230)
pbrooklyn_ny-NA
(231)
pbrielle_nj-NA
(232)
pbremen_me-shrimptrawl
(233)
pbremen_me-lobster
(234)
pboston_ma-NA
(235)
pboston_ma-lobster
(236)
pboston_ma-groundfish-65plus
(237)
pboston_ma-groundfish-65minus
(238)
pboothbay-harbor_me-shrimptrawl
(239)
pboothbay-harbor_me-other-pots-traps
(240)
pboothbay-harbor_me-lobster
(241)
pbeverly_ma-lobster
(242)
pcape-may_nj-lobster
(243)
pnew-bedford_ma-other-pots-traps
(244)
pgloucester_ma-groundfish-65plus
(245)
pgloucester_ma-longline
(246)
pmontauk_ny-other-pots-traps
(247)
pmontauk_ny-NA
(248)
pmontauk_ny-longline
(249)
pmontauk_ny-lobster
(250)
pmontauk_ny-groundfish-65plus
(251)
pmontauk_ny-groundfish-65minus
(252)
pmontauk_ny-gillnet
(253)
pmorehead-city_nc-groundfish-65plus
(254)
pmontauk_ny-dredge
(255)
pmenemsha_ma-lobster
(256)
pmatinicus_me-lobster
(257)
pmarshfield_ma-NA
(258)
pmarshfield_ma-longline
(259)
pmarshfield_ma-lobster
(260)
pmarshfield_ma-groundfish-65minus
(261)
pmachiasport_me-lobster
(262)
pmenemsha_ma-NA
(263)
pmorehead-city_nc-shrimptrawl
(264)
pNA-groundfish-65minus_final
(265)
pNA-groundfish-65plus_final
(266)
pnew-bedford_ma-lobster
(267)
pnew-bedford_ma-groundfish-65plus
(268)
pnew-bedford_ma-groundfish-65minus
(269)
pnew-bedford_ma-gillnet
(270)
pnew-bedford_ma-dredge
(271)
pneptune_nj-lobster
(272)
pNA_gillnet_final
(273)
pNA_dredge_final
(274)
pnantucket_ma-NA
(275)
pnantucket_ma-groundfish-65minus
(276)
pnahant_ma-lobster
(277)
pNA-shrimptrawl_final
(278)
pNA-seine-midwater_final
(279)
pNA-other-pots-traps_final
(280)
pNA-NA_final
(281)
pNA-longline_final
(282)
pNA-lobster_final
(283)
plowland_nc-groundfish-65plus
(284)
pgloucester_ma-lobster
(285)
plong-beach_nj-dredge
(286)
plittle-compton_ri-NA
(287)
pharwichport_ma-dredge
(288)
pharpswell_me-shrimptrawl
(289)
pharpswell_me-lobster
(290)
phampton_va-groundfish-65plus
(291)
phampton_va-gillnet
(292)
phampton_va-dredge
(293)
phampton_nh-lobster
(294)
pharwichport_ma-lobster
(295)
phampton-bay_ny-NA
(296)
phampton-bay_ny-gillnet
(297)
pgreen-harbor_ma-NA
(298)
pgreen-harbor_ma-lobster
(299)
pgloucester_ma-shrimptrawl
(300)
pgloucester_ma-seine-midwater
(301)
pgloucester_ma-other-pots-traps
(302)
pgloucester_ma-NA
(303)
phampton-bay_ny-groundfish-65minus
(304)
pharwichport_ma-NA
(305)
pharwichport_ma-other-pots-traps
(306)
phatteras_nc-gillnet
(307)
plittle-compton_ri-lobster
(308)
plittle-compton_ri-gillnet
(309)
pkittery_me-lobster
(310)
pkennebunkport_me-lobster
(311)
pjonesport_me-lobster
(312)
pjonesport_me-dredge
(313)
pislip_ny-NA
(314)
pisland-park_ny-NA
(315)
phyannis_ma-NA
(316)
phyannis_ma-groundfish-65minus
(317)
phyannis_ma-dredge
(318)
phull_ma-lobster
(319)
phobucken_nc-shrimptrawl
(320)
phobucken_nc-groundfish-65plus
(321)
phobucken_nc-dredge
(322)
pheislerville_nj-gillnet
(323)
phatteras_nc-NA
(324)
plittle-compton_ri-other-pots-traps
(325)
pyork-harbor_me-lobster
(326)
Single Fused Map Cache:
true
Export Tiles Allowed:
False
Max Tiles Export Count:
100000
Cache on Demand:
False
Tile Info:
Height:
256
Width:
256
DPI:
96
Levels of Detail:
(# Levels: 20)
Level ID:
0 [
Start Tile
,
End Tile
]
Resolution:
156543.033928
Scale:
591657527.591555
Level ID:
1 [
Start Tile
,
End Tile
]
Resolution:
78271.5169639999
Scale:
295828763.795777
Level ID:
2 [
Start Tile
,
End Tile
]
Resolution:
39135.7584820001
Scale:
147914381.897889
Level ID:
3 [
Start Tile
,
End Tile
]
Resolution:
19567.8792409999
Scale:
73957190.948944
Level ID:
4 [
Start Tile
,
End Tile
]
Resolution:
9783.93962049996
Scale:
36978595.474472
Level ID:
5 [
Start Tile
,
End Tile
]
Resolution:
4891.96981024998
Scale:
18489297.737236
Level ID:
6 [
Start Tile
,
End Tile
]
Resolution:
2445.98490512499
Scale:
9244648.868618
Level ID:
7 [
Start Tile
,
End Tile
]
Resolution:
1222.99245256249
Scale:
4622324.434309
Level ID:
8 [
Start Tile
,
End Tile
]
Resolution:
611.49622628138
Scale:
2311162.217155
Level ID:
9 [
Start Tile
,
End Tile
]
Resolution:
305.748113140558
Scale:
1155581.108577
Level ID:
10 [
Start Tile
,
End Tile
]
Resolution:
152.874056570411
Scale:
577790.554289
Level ID:
11 [
Start Tile
,
End Tile
]
Resolution:
76.4370282850732
Scale:
288895.277144
Level ID:
12 [
Start Tile
,
End Tile
]
Resolution:
38.2185141425366
Scale:
144447.638572
Level ID:
13 [
Start Tile
,
End Tile
]
Resolution:
19.1092570712683
Scale:
72223.819286
Level ID:
14 [
Start Tile
,
End Tile
]
Resolution:
9.55462853563415
Scale:
36111.909643
Level ID:
15 [
Start Tile
,
End Tile
]
Resolution:
4.77731426794937
Scale:
18055.954822
Level ID:
16 [
Start Tile
,
End Tile
]
Resolution:
2.38865713397468
Scale:
9027.977411
Level ID:
17 [
Start Tile
,
End Tile
]
Resolution:
1.19432856685505
Scale:
4513.988705
Level ID:
18 [
Start Tile
,
End Tile
]
Resolution:
0.597164283559817
Scale:
2256.994353
Level ID:
19 [
Start Tile
,
End Tile
]
Resolution:
0.298582141647617
Scale:
1128.497176
Format:
PNG
Compression Quality:
0
Origin:
X:
-20037508.342787
Y:
20037508.342787
Spatial Reference:
102100 (3857)
Initial Extent:
XMin: -8575059.03821677
YMin: 4066246.87658115
XMax: -7363871.25903121
YMax: 5616715.04021554
Full Extent:
XMin: -8575059.03821677
YMin: 4066246.87658115
XMax: -7363871.25903121
YMax: 5616715.04021554
Min. Scale:
591657527.591555
Max. Scale:
577790.554289
Min LOD:
0
Max LOD:
10
Units:
esriMeters
Supported Image Format Types:
Supported Operations:
Export Tiles