Current Version
Service Description: Imagery of Lights at Night from the SNPP (Suomi National Polar Partnership) satellite flown by NASA and NOAA.
Abstract: N/A
Metadata URI: N/A
Keywords:
Map Name: Dark_Sky_Tiles
Capabilities: Map,TilesOnly,Tilemap
Description: VIIRS Day/Night Band
Imagery acquired 11/5/2015 at about 3:30 AM
Visible Infrared Imaging Radiometer Suite (VIIRS)
Data Records from Suomi NPP
11/05/201508:27:00.3 UTC - 08:41:11.8 UTC
Orbit Number: 20842
SNPP is the Suomi National Polar Partnership satellite flown by NASA and NOAA. It is the next generation polar orbiting satellite, collecting both daytime and nighttime data worldwide each day. The primary imager on SNPP is the Visible Infrared Imaging Radiometer Suite (VIIRS). The source data are produced in HDF5 format and are available through NOAA's CLASS archive.
Downloaded at 11/5/2015 from VIIRS CSPP IR Sources Viewer http://maps.ngdc.noaa.gov/viewers/viirs/
More info at
http://www.ngdc.noaa.gov/eog/viirs/download_dbs.html
http://www.star.nesdis.noaa.gov/smcd/spb/nsun/snpp/VIIRS/VIIRS_SDR_Users_guide.pdf
Copyright Text: OCIT, NOAA, NASA, NOAA, Original file : SVDNB_npp_d20151105_t0827003_e0841118_b20842.d.rade9.tif
Spatial Reference: 102100 (3857)
Legend
All Layers and Tables
Layers:
Single Fused Map Cache: true
Export Tiles Allowed: False
Max Tiles Export Count: 100000
Cache on Demand: False
Tile Info:
- Height: 256
- Width: 256
- DPI: 96
- Levels of Detail: (# Levels: 20)
- Level ID: 0 [Start Tile,End Tile]
- Resolution: 156543.033928
- Scale: 591657527.591555
- Level ID: 1 [Start Tile,End Tile]
- Resolution: 78271.5169639999
- Scale: 295828763.795777
- Level ID: 2 [Start Tile,End Tile]
- Resolution: 39135.7584820001
- Scale: 147914381.897889
- Level ID: 3 [Start Tile,End Tile]
- Resolution: 19567.8792409999
- Scale: 73957190.948944
- Level ID: 4 [Start Tile,End Tile]
- Resolution: 9783.93962049996
- Scale: 36978595.474472
- Level ID: 5 [Start Tile,End Tile]
- Resolution: 4891.96981024998
- Scale: 18489297.737236
- Level ID: 6 [Start Tile,End Tile]
- Resolution: 2445.98490512499
- Scale: 9244648.868618
- Level ID: 7 [Start Tile,End Tile]
- Resolution: 1222.99245256249
- Scale: 4622324.434309
- Level ID: 8 [Start Tile,End Tile]
- Resolution: 611.49622628138
- Scale: 2311162.217155
- Level ID: 9 [Start Tile,End Tile]
- Resolution: 305.748113140558
- Scale: 1155581.108577
- Level ID: 10 [Start Tile,End Tile]
- Resolution: 152.874056570411
- Scale: 577790.554289
- Level ID: 11 [Start Tile,End Tile]
- Resolution: 76.4370282850732
- Scale: 288895.277144
- Level ID: 12 [Start Tile,End Tile]
- Resolution: 38.2185141425366
- Scale: 144447.638572
- Level ID: 13 [Start Tile,End Tile]
- Resolution: 19.1092570712683
- Scale: 72223.819286
- Level ID: 14 [Start Tile,End Tile]
- Resolution: 9.55462853563415
- Scale: 36111.909643
- Level ID: 15 [Start Tile,End Tile]
- Resolution: 4.77731426794937
- Scale: 18055.954822
- Level ID: 16 [Start Tile,End Tile]
- Resolution: 2.38865713397468
- Scale: 9027.977411
- Level ID: 17 [Start Tile,End Tile]
- Resolution: 1.19432856685505
- Scale: 4513.988705
- Level ID: 18 [Start Tile,End Tile]
- Resolution: 0.597164283559817
- Scale: 2256.994353
- Level ID: 19 [Start Tile,End Tile]
- Resolution: 0.298582141647617
- Scale: 1128.497176
- Format: PNG
- Compression Quality: 0
- Origin:
- X: -20037508.342787
- Y: 20037508.342787
Spatial Reference: 102100 (3857)
Initial Extent:
XMin: -9397342.70712865
YMin: 5194505.7573318
XMax: -9166043.59173338
YMax: 5325353.46082006
Full Extent:
XMin: -9422364.8900601
YMin: 5135770.13058592
XMax: -9136237.29284734
YMax: 5385826.16901031
Min. Scale: 4622324.434309
Max. Scale: 72223.819286
Min LOD: 7
Max LOD: 13
Units: esriMeters
Supported Image Format Types:
Supported Operations:
Export Tiles