Current Version
Service Description: CGEO2 is a searchable, interactive database of maps, satellite images, and detailed information on 130,000 locations across Cambodia.
Abstract: N/A
Metadata URI: N/A
Keywords:
Map Name: Cambodian_Genocide_Project_-_Vector_Datasets_Tile_Layer
Capabilities: Map,TilesOnly,Tilemap
Description: CGEO2 is a searchable, interactive database of maps, satellite images, and detailed information on 130,000 locations across Cambodia. It includes:
1) a series of digital map layers displaying Cambodia’s relief and elevation and recording its political and environmental geography in 1962, 1972, 1973-76, 1990, and 2000.
2) another series of layers showing, on any of those maps:
the locations and names of Cambodia’s 13,042 villages (phum)
a spatially referenced display and description of the 115,273 sites targeted in the 231,467 US bombing sorties flown over Cambodia between October 1965 and May 1975, dropping 2,757,107 tons of munitions
the locations of 158 prisons run by the Khmer Rouge (Democratic Kampuchea, or ‘DK’) during April 1975-January 1979
309 DK mass-grave sites (including 258 estimated to each contain six or more bodies; 125 sites, 1,000 or more; 27 sites, 10,000 bodies or more; and 7 sites, 30-70,000 each); in an estimated total of 19,000 grave pits.
76 sites of post-1979 memorials to victims of the Khmer Rouge.
Any of the first series of layers can be displayed in combination with any or all of the second series, along with other geographic layers such as the boundaries of provinces (khet) and subdistricts (khum), DK-era Zone (phumipeak) and Region (damban) boundaries, and roads and watercourses. Just click on any selected box(es) in the map’s legend at right, then “Refresh.” Map layers listed closer to the top of the legend display over those listed below them. Zoom in by clicking the '+' magnifying-glass icon (second from top at left) and drawing a square around a selected portion of the map.
To read attributes of any points in the second series of layers, click on the appropriate boxes in the legend at right, to make the points "Visible" and "Active," then on the Information icon " i" in the black circle at left of the map, and move the cross-hair cursor to click precisely on the selected point on the map. For phum, this displays the name of the village on that site.
For US bombing points, attributes of a site’s bombardment are displayed in tabular form, e.g. the date of the bombing, exact location, the number and type of aircraft in the sortie, bombing load and ordnance type, the nature of the intended target, and bomb damage assessment (BDA). Individual sortie payloads ranged in size from tens of lbs. to several thousand tons. The dataset details the 42 aircraft types deployed, including B-52's, and the 188 types of munitions they dropped, including 500-lb. 'carpet bombs', cluster bombs, fire bombs and 1000-lb. bombs.
For the DK mass grave sites, attributes include the estimated number of pits and bodies.
Sources and Acknowledgements
CGEO’s 2005 version was prepared by Yale’s Cambodian Genocide Program in collaboration with Mr. Abraham Parrish of the Map Collection at Yale’s Sterling Memorial Library. We also thank him and Sterling for hosting CGEO on their server.
The CGP obtained and compiled the satellite images and mosaics of Cambodia with the assistance and expertise of the Center for Earth Observation (www.yale.edu/ceo) at the Yale Institute for Biospheric Studies (www.yale.edu/yibs), of which the CGP is an Affiliate and grant recipient. We thank Profs. Karl Turekian, Derek Briggs, and Ron Smith, and the CEO’s Laurent Bonneau, Douglas Morton, and Eden Enclona.
The US bombing database was released by the US Embassy in Cambodia to the Royal Cambodian Government and the Cambodian Mine Action Authority (CMAA) to assist in the clearance of unexploded ordnance. Mr. Taylor Owen of the Peace Research Institute in Oslo, Norway, obtained a copy in Phnom Penh. Mr. Owen, now at Oxford University, kindly provided this data to the CGP in 2004, when he was a Visiting Fellow in the Genocide Studies Program at the Yale Center for International and Area Studies (www.yale.edu/gsp). Further resources on the US role in recent Cambodian history are listed at www.yale.edu/cgp/us.html
The Cambodian Genocide Program, its Documentation Project at the University of New South Wales, and the Documentation Center of Cambodia jointly compiled the Democratic Kampuchea prison, mass grave, and memorial data in 1995-2001, with the help of grants from the Australian and Netherlands governments.
Copyright Text:
Spatial Reference: 102100 (3857)
Legend
All Layers and Tables
Layers:
Single Fused Map Cache: true
Export Tiles Allowed: False
Max Tiles Export Count: 100000
Cache on Demand: False
Tile Info:
- Height: 256
- Width: 256
- DPI: 96
- Levels of Detail: (# Levels: 20)
- Level ID: 0 [Start Tile,End Tile]
- Resolution: 156543.033928
- Scale: 591657527.591555
- Level ID: 1 [Start Tile,End Tile]
- Resolution: 78271.5169639999
- Scale: 295828763.795777
- Level ID: 2 [Start Tile,End Tile]
- Resolution: 39135.7584820001
- Scale: 147914381.897889
- Level ID: 3 [Start Tile,End Tile]
- Resolution: 19567.8792409999
- Scale: 73957190.948944
- Level ID: 4 [Start Tile,End Tile]
- Resolution: 9783.93962049996
- Scale: 36978595.474472
- Level ID: 5 [Start Tile,End Tile]
- Resolution: 4891.96981024998
- Scale: 18489297.737236
- Level ID: 6 [Start Tile,End Tile]
- Resolution: 2445.98490512499
- Scale: 9244648.868618
- Level ID: 7 [Start Tile,End Tile]
- Resolution: 1222.99245256249
- Scale: 4622324.434309
- Level ID: 8 [Start Tile,End Tile]
- Resolution: 611.49622628138
- Scale: 2311162.217155
- Level ID: 9 [Start Tile,End Tile]
- Resolution: 305.748113140558
- Scale: 1155581.108577
- Level ID: 10 [Start Tile,End Tile]
- Resolution: 152.874056570411
- Scale: 577790.554289
- Level ID: 11 [Start Tile,End Tile]
- Resolution: 76.4370282850732
- Scale: 288895.277144
- Level ID: 12 [Start Tile,End Tile]
- Resolution: 38.2185141425366
- Scale: 144447.638572
- Level ID: 13 [Start Tile,End Tile]
- Resolution: 19.1092570712683
- Scale: 72223.819286
- Level ID: 14 [Start Tile,End Tile]
- Resolution: 9.55462853563415
- Scale: 36111.909643
- Level ID: 15 [Start Tile,End Tile]
- Resolution: 4.77731426794937
- Scale: 18055.954822
- Level ID: 16 [Start Tile,End Tile]
- Resolution: 2.38865713397468
- Scale: 9027.977411
- Level ID: 17 [Start Tile,End Tile]
- Resolution: 1.19432856685505
- Scale: 4513.988705
- Level ID: 18 [Start Tile,End Tile]
- Resolution: 0.597164283559817
- Scale: 2256.994353
- Level ID: 19 [Start Tile,End Tile]
- Resolution: 0.298582141647617
- Scale: 1128.497176
- Format: PNG
- Compression Quality: 0
- Origin:
- X: -20037508.342787
- Y: 20037508.342787
Spatial Reference: 102100 (3857)
Initial Extent:
XMin: 11297822.2958326
YMin: 1362303.79941453
XMax: 12076486.5878024
YMax: 1676694.07692345
Full Extent:
XMin: 11392157.9706067
YMin: 1158538.44833879
XMax: 11982206.1514294
YMax: 1653189.23926975
Min. Scale: 36978595.474472
Max. Scale: 18055.954822
Min LOD: 4
Max LOD: 15
Units: esriMeters
Supported Image Format Types:
Supported Operations:
Export Tiles