Current Version
Service Description:
Abstract: This file contains the digital vector boundaries for Counties and Unitary Authorities (also known as Upper Tier Local Authorities), in England and Wales, as at December 2016. The boundaries available are:
- Full resolution - extent of the realm (usually this is the Mean Low Water mark but in some cases boundaries extend beyond this to include off shore islands);
- Full resolution - clipped to the coastline (Mean High Water mark);
- Generalised (20m) - clipped to the coastline (Mean High Water mark);
- Super generalised (200m) - clipped to the coastline (Mean High Water mark) and
- Ultra generalised (500m) - clipped to the coastline (Mean High Water mark).
Contains both Ordnance Survey and ONS Intellectual Property Rights.
Download File Sizes
• Full resolution - extent of the realm (17 MB)
• Full resolution - clipped to the coastline (22 MB)
• Generalised (20m) - clipped to the coastline (3 MB)
• Super generalised (200m) - clipped to the coastline (470 KB)
• Ultra generalised (500m) - clipped to the coastline (168 KB).
Metadata URI: https://www.arcgis.com/sharing/rest/content/items/70e642eeb7574563aecbaab133e97872/info/metadata/metadata.xml?format=default
Keywords: ['Boundaries', 'Counties', 'Unitary Authorities', 'CTYUA', '2016', 'Administrative Boundaries', 'England and Wales', 'WFS', 'WMS', 'Latest_Boundaries', 'boundaries', 'BDY_ADM', 'BDY_CTYUA', 'DEC_2016']
Map Name: CTYUA_(Dec_2016)_SGCB_in_England_and_Wales
Capabilities: Map,ChangeTracking,TilesOnly,Tilemap
Description: This file contains the digital vector boundaries for Counties and Unitary Authorities (also known as Upper Tier Local Authorities), in England and Wales, as at December 2016. The boundaries available are:
- Full resolution - extent of the realm (usually this is the Mean Low Water mark but in some cases boundaries extend beyond this to include off shore islands);
- Full resolution - clipped to the coastline (Mean High Water mark);
- Generalised (20m) - clipped to the coastline (Mean High Water mark);
- Super generalised (200m) - clipped to the coastline (Mean High Water mark) and
- Ultra generalised (500m) - clipped to the coastline (Mean High Water mark).
Contains both Ordnance Survey and ONS Intellectual Property Rights.
Download File Sizes
• Full resolution - extent of the realm (17 MB)
• Full resolution - clipped to the coastline (22 MB)
• Generalised (20m) - clipped to the coastline (3 MB)
• Super generalised (200m) - clipped to the coastline (470 KB)
• Ultra generalised (500m) - clipped to the coastline (168 KB).
Copyright Text:
Spatial Reference: 102100 (3857)
Legend
All Layers and Tables
Layers:
Single Fused Map Cache: true
Export Tiles Allowed: False
Max Tiles Export Count: 100000
Cache on Demand: True
Tile Info:
- Height: 256
- Width: 256
- DPI: 96
- Levels of Detail: (# Levels: 23)
- Level ID: 0 [Start Tile,End Tile]
- Resolution: 156543.033928
- Scale: 591657527.591555
- Level ID: 1 [Start Tile,End Tile]
- Resolution: 78271.5169639999
- Scale: 295828763.795777
- Level ID: 2 [Start Tile,End Tile]
- Resolution: 39135.7584820001
- Scale: 147914381.897889
- Level ID: 3 [Start Tile,End Tile]
- Resolution: 19567.8792409999
- Scale: 73957190.948944
- Level ID: 4 [Start Tile,End Tile]
- Resolution: 9783.93962049996
- Scale: 36978595.474472
- Level ID: 5 [Start Tile,End Tile]
- Resolution: 4891.96981024998
- Scale: 18489297.737236
- Level ID: 6 [Start Tile,End Tile]
- Resolution: 2445.98490512499
- Scale: 9244648.868618
- Level ID: 7 [Start Tile,End Tile]
- Resolution: 1222.99245256249
- Scale: 4622324.434309
- Level ID: 8 [Start Tile,End Tile]
- Resolution: 611.49622628138
- Scale: 2311162.217155
- Level ID: 9 [Start Tile,End Tile]
- Resolution: 305.748113140558
- Scale: 1155581.108577
- Level ID: 10 [Start Tile,End Tile]
- Resolution: 152.874056570411
- Scale: 577790.554289
- Level ID: 11 [Start Tile,End Tile]
- Resolution: 76.4370282850732
- Scale: 288895.277144
- Level ID: 12 [Start Tile,End Tile]
- Resolution: 38.2185141425366
- Scale: 144447.638572
- Level ID: 13 [Start Tile,End Tile]
- Resolution: 19.1092570712683
- Scale: 72223.819286
- Level ID: 14 [Start Tile,End Tile]
- Resolution: 9.55462853563415
- Scale: 36111.909643
- Level ID: 15 [Start Tile,End Tile]
- Resolution: 4.77731426794937
- Scale: 18055.954822
- Level ID: 16 [Start Tile,End Tile]
- Resolution: 2.38865713397468
- Scale: 9027.977411
- Level ID: 17 [Start Tile,End Tile]
- Resolution: 1.19432856685505
- Scale: 4513.988705
- Level ID: 18 [Start Tile,End Tile]
- Resolution: 0.597164283559817
- Scale: 2256.994353
- Level ID: 19 [Start Tile,End Tile]
- Resolution: 0.298582141647617
- Scale: 1128.497176
- Level ID: 20 [Start Tile,End Tile]
- Resolution: 0.149291070823808
- Scale: 564.248588
- Level ID: 21 [Start Tile,End Tile]
- Resolution: 0.0746455354119042
- Scale: 282.124294
- Level ID: 22 [Start Tile,End Tile]
- Resolution: 0.0373227677059521
- Scale: 141.062147
- Format: PNG32
- Compression Quality: 0
- Origin:
- X: -20037508.342787
- Y: 20037508.342787
Spatial Reference: 102100 (3857)
Initial Extent:
XMin: -783290.475691573
YMin: 6423197.05704169
XMax: 230608.119450422
YMax: 7520901.27385193
Full Extent:
XMin: -783290.475691573
YMin: 6423197.05704169
XMax: 230608.119450422
YMax: 7520901.27385193
Min. Scale: 4622325
Max. Scale: 288895
Min LOD: 7
Max LOD: 11
Units: esriMeters
Supported Image Format Types:
Supported Operations:
Export Tiles